BEGIN:VCALENDAR
VERSION:2.0
PRODID:-//Paralyzed Veterans of America - ECPv6.15.20//NONSGML v1.0//EN
CALSCALE:GREGORIAN
METHOD:PUBLISH
X-ORIGINAL-URL:https://texaspva.org
X-WR-CALDESC:Events for Paralyzed Veterans of America
REFRESH-INTERVAL;VALUE=DURATION:PT1H
X-Robots-Tag:noindex
X-PUBLISHED-TTL:PT1H
BEGIN:VTIMEZONE
TZID:America/Chicago
BEGIN:DAYLIGHT
TZOFFSETFROM:-0600
TZOFFSETTO:-0500
TZNAME:CDT
DTSTART:20230312T080000
END:DAYLIGHT
BEGIN:STANDARD
TZOFFSETFROM:-0500
TZOFFSETTO:-0600
TZNAME:CST
DTSTART:20231105T070000
END:STANDARD
BEGIN:DAYLIGHT
TZOFFSETFROM:-0600
TZOFFSETTO:-0500
TZNAME:CDT
DTSTART:20240310T080000
END:DAYLIGHT
BEGIN:STANDARD
TZOFFSETFROM:-0500
TZOFFSETTO:-0600
TZNAME:CST
DTSTART:20241103T070000
END:STANDARD
BEGIN:DAYLIGHT
TZOFFSETFROM:-0600
TZOFFSETTO:-0500
TZNAME:CDT
DTSTART:20250309T080000
END:DAYLIGHT
BEGIN:STANDARD
TZOFFSETFROM:-0500
TZOFFSETTO:-0600
TZNAME:CST
DTSTART:20251102T070000
END:STANDARD
BEGIN:DAYLIGHT
TZOFFSETFROM:-0600
TZOFFSETTO:-0500
TZNAME:CDT
DTSTART:20260308T080000
END:DAYLIGHT
BEGIN:STANDARD
TZOFFSETFROM:-0500
TZOFFSETTO:-0600
TZNAME:CST
DTSTART:20261101T070000
END:STANDARD
BEGIN:DAYLIGHT
TZOFFSETFROM:-0600
TZOFFSETTO:-0500
TZNAME:CDT
DTSTART:20270314T080000
END:DAYLIGHT
BEGIN:STANDARD
TZOFFSETFROM:-0500
TZOFFSETTO:-0600
TZNAME:CST
DTSTART:20271107T070000
END:STANDARD
END:VTIMEZONE
BEGIN:VEVENT
DTSTART;TZID=America/Chicago:20260416T110000
DTEND;TZID=America/Chicago:20260416T150000
DTSTAMP:20260422T065236
CREATED:20251110T164657Z
LAST-MODIFIED:20251110T164657Z
UID:10003488-1776337200-1776351600@texaspva.org
SUMMARY:Board of Directors Meeting
DESCRIPTION:Related
URL:https://texaspva.org/event/board-of-directors-meeting-2/2026-04-16/
LOCATION:To Be Determined
END:VEVENT
BEGIN:VEVENT
DTSTART;TZID=America/Chicago:20260319T110000
DTEND;TZID=America/Chicago:20260319T150000
DTSTAMP:20260422T065236
CREATED:20251110T164657Z
LAST-MODIFIED:20251110T164657Z
UID:10003487-1773918000-1773932400@texaspva.org
SUMMARY:Board of Directors Meeting
DESCRIPTION:Related
URL:https://texaspva.org/event/board-of-directors-meeting-2/2026-03-19/
LOCATION:To Be Determined
END:VEVENT
BEGIN:VEVENT
DTSTART;TZID=America/Chicago:20260219T110000
DTEND;TZID=America/Chicago:20260219T150000
DTSTAMP:20260422T065236
CREATED:20251110T164657Z
LAST-MODIFIED:20251110T164657Z
UID:10003486-1771498800-1771513200@texaspva.org
SUMMARY:Board of Directors Meeting
DESCRIPTION:Related
URL:https://texaspva.org/event/board-of-directors-meeting-2/2026-02-19/
LOCATION:To Be Determined
END:VEVENT
BEGIN:VEVENT
DTSTART;TZID=America/Chicago:20260115T110000
DTEND;TZID=America/Chicago:20260115T150000
DTSTAMP:20260422T065236
CREATED:20251110T164657Z
LAST-MODIFIED:20251110T164657Z
UID:10003485-1768474800-1768489200@texaspva.org
SUMMARY:Board of Directors Meeting
DESCRIPTION:Related
URL:https://texaspva.org/event/board-of-directors-meeting-2/2026-01-15/
LOCATION:To Be Determined
END:VEVENT
BEGIN:VEVENT
DTSTART;TZID=America/Chicago:20251218T110000
DTEND;TZID=America/Chicago:20251218T150000
DTSTAMP:20260422T065236
CREATED:20251110T164657Z
LAST-MODIFIED:20251110T164657Z
UID:10003484-1766055600-1766070000@texaspva.org
SUMMARY:Board of Directors Meeting
DESCRIPTION:Related
URL:https://texaspva.org/event/board-of-directors-meeting-2/2025-12-18/
LOCATION:To Be Determined
END:VEVENT
BEGIN:VEVENT
DTSTART;TZID=America/Chicago:20251120T110000
DTEND;TZID=America/Chicago:20251120T150000
DTSTAMP:20260422T065236
CREATED:20251110T164657Z
LAST-MODIFIED:20251110T164657Z
UID:10002402-1763636400-1763650800@texaspva.org
SUMMARY:Board of Directors Meeting
DESCRIPTION:Related
URL:https://texaspva.org/event/board-of-directors-meeting-2/2025-11-20/
LOCATION:To Be Determined
END:VEVENT
BEGIN:VEVENT
DTSTART;TZID=America/Chicago:20251015T110000
DTEND;TZID=America/Chicago:20251015T150000
DTSTAMP:20260422T065236
CREATED:20240524T155339Z
LAST-MODIFIED:20240524T155339Z
UID:10002401-1760526000-1760540400@texaspva.org
SUMMARY:Board of Directors Meeting
DESCRIPTION:Related
URL:https://texaspva.org/event/board-of-directors-meeting/2025-10-15/
LOCATION:To Be Determined
END:VEVENT
BEGIN:VEVENT
DTSTART;TZID=America/Chicago:20250917T110000
DTEND;TZID=America/Chicago:20250917T150000
DTSTAMP:20260422T065236
CREATED:20240524T155339Z
LAST-MODIFIED:20240524T155339Z
UID:10002400-1758106800-1758121200@texaspva.org
SUMMARY:Board of Directors Meeting
DESCRIPTION:Related
URL:https://texaspva.org/event/board-of-directors-meeting/2025-09-17/
LOCATION:To Be Determined
END:VEVENT
BEGIN:VEVENT
DTSTART;TZID=America/Chicago:20250820T110000
DTEND;TZID=America/Chicago:20250820T150000
DTSTAMP:20260422T065236
CREATED:20240524T155339Z
LAST-MODIFIED:20240524T155339Z
UID:10002399-1755687600-1755702000@texaspva.org
SUMMARY:Board of Directors Meeting
DESCRIPTION:Related
URL:https://texaspva.org/event/board-of-directors-meeting/2025-08-20/
LOCATION:To Be Determined
END:VEVENT
BEGIN:VEVENT
DTSTART;TZID=America/Chicago:20250716T110000
DTEND;TZID=America/Chicago:20250716T150000
DTSTAMP:20260422T065236
CREATED:20240524T155339Z
LAST-MODIFIED:20240524T155339Z
UID:10002398-1752663600-1752678000@texaspva.org
SUMMARY:Board of Directors Meeting
DESCRIPTION:Related
URL:https://texaspva.org/event/board-of-directors-meeting/2025-07-16/
LOCATION:To Be Determined
END:VEVENT
BEGIN:VEVENT
DTSTART;TZID=America/Chicago:20250618T110000
DTEND;TZID=America/Chicago:20250618T150000
DTSTAMP:20260422T065236
CREATED:20240524T155339Z
LAST-MODIFIED:20240524T155339Z
UID:10002397-1750244400-1750258800@texaspva.org
SUMMARY:Board of Directors Meeting
DESCRIPTION:Related
URL:https://texaspva.org/event/board-of-directors-meeting/2025-06-18/
LOCATION:To Be Determined
END:VEVENT
BEGIN:VEVENT
DTSTART;TZID=America/Chicago:20250521T110000
DTEND;TZID=America/Chicago:20250521T150000
DTSTAMP:20260422T065237
CREATED:20240524T155339Z
LAST-MODIFIED:20240524T155339Z
UID:10002396-1747825200-1747839600@texaspva.org
SUMMARY:Board of Directors Meeting
DESCRIPTION:Related
URL:https://texaspva.org/event/board-of-directors-meeting/2025-05-21/
LOCATION:To Be Determined
END:VEVENT
BEGIN:VEVENT
DTSTART;TZID=America/Chicago:20250416T110000
DTEND;TZID=America/Chicago:20250416T150000
DTSTAMP:20260422T065237
CREATED:20240524T155339Z
LAST-MODIFIED:20240524T155339Z
UID:10002395-1744801200-1744815600@texaspva.org
SUMMARY:Board of Directors Meeting
DESCRIPTION:Related
URL:https://texaspva.org/event/board-of-directors-meeting/2025-04-16/
LOCATION:To Be Determined
END:VEVENT
BEGIN:VEVENT
DTSTART;TZID=America/Chicago:20250319T110000
DTEND;TZID=America/Chicago:20250319T150000
DTSTAMP:20260422T065237
CREATED:20240524T155339Z
LAST-MODIFIED:20240524T155339Z
UID:10002394-1742382000-1742396400@texaspva.org
SUMMARY:Board of Directors Meeting
DESCRIPTION:Related
URL:https://texaspva.org/event/board-of-directors-meeting/2025-03-19/
LOCATION:To Be Determined
END:VEVENT
BEGIN:VEVENT
DTSTART;TZID=America/Chicago:20250219T110000
DTEND;TZID=America/Chicago:20250219T150000
DTSTAMP:20260422T065237
CREATED:20240524T155339Z
LAST-MODIFIED:20240524T155339Z
UID:10002393-1739962800-1739977200@texaspva.org
SUMMARY:Board of Directors Meeting
DESCRIPTION:Related
URL:https://texaspva.org/event/board-of-directors-meeting/2025-02-19/
LOCATION:To Be Determined
END:VEVENT
BEGIN:VEVENT
DTSTART;TZID=America/Chicago:20250115T110000
DTEND;TZID=America/Chicago:20250115T150000
DTSTAMP:20260422T065237
CREATED:20240524T155339Z
LAST-MODIFIED:20240524T155339Z
UID:10002392-1736938800-1736953200@texaspva.org
SUMMARY:Board of Directors Meeting
DESCRIPTION:Related
URL:https://texaspva.org/event/board-of-directors-meeting/2025-01-15/
LOCATION:To Be Determined
END:VEVENT
BEGIN:VEVENT
DTSTART;TZID=America/Chicago:20241218T110000
DTEND;TZID=America/Chicago:20241218T150000
DTSTAMP:20260422T065237
CREATED:20240524T155339Z
LAST-MODIFIED:20240524T155339Z
UID:10002391-1734519600-1734534000@texaspva.org
SUMMARY:Board of Directors Meeting
DESCRIPTION:Related
URL:https://texaspva.org/event/board-of-directors-meeting/2024-12-18/
LOCATION:To Be Determined
END:VEVENT
BEGIN:VEVENT
DTSTART;TZID=America/Chicago:20241120T110000
DTEND;TZID=America/Chicago:20241120T150000
DTSTAMP:20260422T065237
CREATED:20240524T155339Z
LAST-MODIFIED:20240524T155339Z
UID:10002390-1732100400-1732114800@texaspva.org
SUMMARY:Board of Directors Meeting
DESCRIPTION:Related
URL:https://texaspva.org/event/board-of-directors-meeting/2024-11-20/
LOCATION:To Be Determined
END:VEVENT
BEGIN:VEVENT
DTSTART;TZID=America/Chicago:20241016T110000
DTEND;TZID=America/Chicago:20241016T150000
DTSTAMP:20260422T065237
CREATED:20240524T155339Z
LAST-MODIFIED:20240524T155339Z
UID:10002389-1729076400-1729090800@texaspva.org
SUMMARY:Board of Directors Meeting
DESCRIPTION:Related
URL:https://texaspva.org/event/board-of-directors-meeting/2024-10-16/
LOCATION:To Be Determined
END:VEVENT
BEGIN:VEVENT
DTSTART;TZID=America/Chicago:20240918T110000
DTEND;TZID=America/Chicago:20240918T150000
DTSTAMP:20260422T065237
CREATED:20240524T155339Z
LAST-MODIFIED:20240524T155339Z
UID:10002388-1726657200-1726671600@texaspva.org
SUMMARY:Board of Directors Meeting
DESCRIPTION:Related
URL:https://texaspva.org/event/board-of-directors-meeting/2024-09-18/
LOCATION:To Be Determined
END:VEVENT
BEGIN:VEVENT
DTSTART;TZID=America/Chicago:20240821T110000
DTEND;TZID=America/Chicago:20240821T150000
DTSTAMP:20260422T065237
CREATED:20240524T155339Z
LAST-MODIFIED:20240524T155339Z
UID:10002387-1724238000-1724252400@texaspva.org
SUMMARY:Board of Directors Meeting
DESCRIPTION:Related
URL:https://texaspva.org/event/board-of-directors-meeting/2024-08-21/
LOCATION:To Be Determined
END:VEVENT
BEGIN:VEVENT
DTSTART;TZID=America/Chicago:20240717T110000
DTEND;TZID=America/Chicago:20240717T150000
DTSTAMP:20260422T065237
CREATED:20240524T155339Z
LAST-MODIFIED:20240524T155339Z
UID:10002386-1721214000-1721228400@texaspva.org
SUMMARY:Board of Directors Meeting
DESCRIPTION:Related
URL:https://texaspva.org/event/board-of-directors-meeting/2024-07-17/
LOCATION:To Be Determined
END:VEVENT
BEGIN:VEVENT
DTSTART;TZID=America/Chicago:20240619T110000
DTEND;TZID=America/Chicago:20240619T150000
DTSTAMP:20260422T065237
CREATED:20240524T155339Z
LAST-MODIFIED:20240524T155339Z
UID:10002385-1718794800-1718809200@texaspva.org
SUMMARY:Board of Directors Meeting
DESCRIPTION:Related
URL:https://texaspva.org/event/board-of-directors-meeting/2024-06-19/
LOCATION:To Be Determined
END:VEVENT
END:VCALENDAR