BEGIN:VCALENDAR
VERSION:2.0
PRODID:-//Paralyzed Veterans of America - ECPv6.15.13//NONSGML v1.0//EN
CALSCALE:GREGORIAN
METHOD:PUBLISH
X-ORIGINAL-URL:https://texaspva.org
X-WR-CALDESC:Events for Paralyzed Veterans of America
REFRESH-INTERVAL;VALUE=DURATION:PT1H
X-Robots-Tag:noindex
X-PUBLISHED-TTL:PT1H
BEGIN:VTIMEZONE
TZID:America/Chicago
BEGIN:DAYLIGHT
TZOFFSETFROM:-0600
TZOFFSETTO:-0500
TZNAME:CDT
DTSTART:20250309T080000
END:DAYLIGHT
BEGIN:STANDARD
TZOFFSETFROM:-0500
TZOFFSETTO:-0600
TZNAME:CST
DTSTART:20251102T070000
END:STANDARD
BEGIN:DAYLIGHT
TZOFFSETFROM:-0600
TZOFFSETTO:-0500
TZNAME:CDT
DTSTART:20260308T080000
END:DAYLIGHT
BEGIN:STANDARD
TZOFFSETFROM:-0500
TZOFFSETTO:-0600
TZNAME:CST
DTSTART:20261101T070000
END:STANDARD
BEGIN:DAYLIGHT
TZOFFSETFROM:-0600
TZOFFSETTO:-0500
TZNAME:CDT
DTSTART:20270314T080000
END:DAYLIGHT
BEGIN:STANDARD
TZOFFSETFROM:-0500
TZOFFSETTO:-0600
TZNAME:CST
DTSTART:20271107T070000
END:STANDARD
END:VTIMEZONE
BEGIN:VEVENT
DTSTART;TZID=America/Chicago:20260108T110000
DTEND;TZID=America/Chicago:20260108T120000
DTSTAMP:20260102T063306
CREATED:20230412T164647Z
LAST-MODIFIED:20230412T164823Z
UID:10001457-1767870000-1767873600@texaspva.org
SUMMARY:Bowling SA
DESCRIPTION:Related
URL:https://texaspva.org/event/sa-bowling/2026-01-08/
LOCATION:The Lanes at Oak HIlls\, 7330 Callahan Rd\, San Antonio\, TX\, 78229\, United States
END:VEVENT
BEGIN:VEVENT
DTSTART;TZID=America/Chicago:20260115T110000
DTEND;TZID=America/Chicago:20260115T120000
DTSTAMP:20260102T063306
CREATED:20230412T164647Z
LAST-MODIFIED:20230412T164823Z
UID:10001458-1768474800-1768478400@texaspva.org
SUMMARY:Bowling SA
DESCRIPTION:Related
URL:https://texaspva.org/event/sa-bowling/2026-01-15/
LOCATION:The Lanes at Oak HIlls\, 7330 Callahan Rd\, San Antonio\, TX\, 78229\, United States
END:VEVENT
BEGIN:VEVENT
DTSTART;TZID=America/Chicago:20260122T110000
DTEND;TZID=America/Chicago:20260122T120000
DTSTAMP:20260102T063306
CREATED:20230412T164647Z
LAST-MODIFIED:20230412T164823Z
UID:10001459-1769079600-1769083200@texaspva.org
SUMMARY:Bowling SA
DESCRIPTION:Related
URL:https://texaspva.org/event/sa-bowling/2026-01-22/
LOCATION:The Lanes at Oak HIlls\, 7330 Callahan Rd\, San Antonio\, TX\, 78229\, United States
END:VEVENT
BEGIN:VEVENT
DTSTART;TZID=America/Chicago:20260129T110000
DTEND;TZID=America/Chicago:20260129T120000
DTSTAMP:20260102T063306
CREATED:20230412T164647Z
LAST-MODIFIED:20230412T164823Z
UID:10001460-1769684400-1769688000@texaspva.org
SUMMARY:Bowling SA
DESCRIPTION:Related
URL:https://texaspva.org/event/sa-bowling/2026-01-29/
LOCATION:The Lanes at Oak HIlls\, 7330 Callahan Rd\, San Antonio\, TX\, 78229\, United States
END:VEVENT
BEGIN:VEVENT
DTSTART;TZID=America/Chicago:20260205T110000
DTEND;TZID=America/Chicago:20260205T120000
DTSTAMP:20260102T063306
CREATED:20230412T164647Z
LAST-MODIFIED:20230412T164823Z
UID:10001461-1770289200-1770292800@texaspva.org
SUMMARY:Bowling SA
DESCRIPTION:Related
URL:https://texaspva.org/event/sa-bowling/2026-02-05/
LOCATION:The Lanes at Oak HIlls\, 7330 Callahan Rd\, San Antonio\, TX\, 78229\, United States
END:VEVENT
BEGIN:VEVENT
DTSTART;TZID=America/Chicago:20260212T110000
DTEND;TZID=America/Chicago:20260212T120000
DTSTAMP:20260102T063306
CREATED:20230412T164647Z
LAST-MODIFIED:20230412T164823Z
UID:10001462-1770894000-1770897600@texaspva.org
SUMMARY:Bowling SA
DESCRIPTION:Related
URL:https://texaspva.org/event/sa-bowling/2026-02-12/
LOCATION:The Lanes at Oak HIlls\, 7330 Callahan Rd\, San Antonio\, TX\, 78229\, United States
END:VEVENT
BEGIN:VEVENT
DTSTART;TZID=America/Chicago:20260219T110000
DTEND;TZID=America/Chicago:20260219T120000
DTSTAMP:20260102T063306
CREATED:20230412T164647Z
LAST-MODIFIED:20230412T164823Z
UID:10001463-1771498800-1771502400@texaspva.org
SUMMARY:Bowling SA
DESCRIPTION:Related
URL:https://texaspva.org/event/sa-bowling/2026-02-19/
LOCATION:The Lanes at Oak HIlls\, 7330 Callahan Rd\, San Antonio\, TX\, 78229\, United States
END:VEVENT
BEGIN:VEVENT
DTSTART;TZID=America/Chicago:20260226T110000
DTEND;TZID=America/Chicago:20260226T120000
DTSTAMP:20260102T063306
CREATED:20230412T164647Z
LAST-MODIFIED:20230412T164823Z
UID:10001464-1772103600-1772107200@texaspva.org
SUMMARY:Bowling SA
DESCRIPTION:Related
URL:https://texaspva.org/event/sa-bowling/2026-02-26/
LOCATION:The Lanes at Oak HIlls\, 7330 Callahan Rd\, San Antonio\, TX\, 78229\, United States
END:VEVENT
BEGIN:VEVENT
DTSTART;TZID=America/Chicago:20260305T110000
DTEND;TZID=America/Chicago:20260305T120000
DTSTAMP:20260102T063306
CREATED:20230412T164647Z
LAST-MODIFIED:20230412T164823Z
UID:10001465-1772708400-1772712000@texaspva.org
SUMMARY:Bowling SA
DESCRIPTION:Related
URL:https://texaspva.org/event/sa-bowling/2026-03-05/
LOCATION:The Lanes at Oak HIlls\, 7330 Callahan Rd\, San Antonio\, TX\, 78229\, United States
END:VEVENT
BEGIN:VEVENT
DTSTART;TZID=America/Chicago:20260312T110000
DTEND;TZID=America/Chicago:20260312T120000
DTSTAMP:20260102T063306
CREATED:20230412T164647Z
LAST-MODIFIED:20230412T164823Z
UID:10001466-1773313200-1773316800@texaspva.org
SUMMARY:Bowling SA
DESCRIPTION:Related
URL:https://texaspva.org/event/sa-bowling/2026-03-12/
LOCATION:The Lanes at Oak HIlls\, 7330 Callahan Rd\, San Antonio\, TX\, 78229\, United States
END:VEVENT
BEGIN:VEVENT
DTSTART;TZID=America/Chicago:20260319T110000
DTEND;TZID=America/Chicago:20260319T120000
DTSTAMP:20260102T063306
CREATED:20230412T164647Z
LAST-MODIFIED:20230412T164823Z
UID:10001467-1773918000-1773921600@texaspva.org
SUMMARY:Bowling SA
DESCRIPTION:Related
URL:https://texaspva.org/event/sa-bowling/2026-03-19/
LOCATION:The Lanes at Oak HIlls\, 7330 Callahan Rd\, San Antonio\, TX\, 78229\, United States
END:VEVENT
BEGIN:VEVENT
DTSTART;TZID=America/Chicago:20260326T110000
DTEND;TZID=America/Chicago:20260326T120000
DTSTAMP:20260102T063306
CREATED:20230412T164647Z
LAST-MODIFIED:20230412T164823Z
UID:10001468-1774522800-1774526400@texaspva.org
SUMMARY:Bowling SA
DESCRIPTION:Related
URL:https://texaspva.org/event/sa-bowling/2026-03-26/
LOCATION:The Lanes at Oak HIlls\, 7330 Callahan Rd\, San Antonio\, TX\, 78229\, United States
END:VEVENT
BEGIN:VEVENT
DTSTART;TZID=America/Chicago:20260402T110000
DTEND;TZID=America/Chicago:20260402T120000
DTSTAMP:20260102T063306
CREATED:20230412T164647Z
LAST-MODIFIED:20230412T164823Z
UID:10001469-1775127600-1775131200@texaspva.org
SUMMARY:Bowling SA
DESCRIPTION:Related
URL:https://texaspva.org/event/sa-bowling/2026-04-02/
LOCATION:The Lanes at Oak HIlls\, 7330 Callahan Rd\, San Antonio\, TX\, 78229\, United States
END:VEVENT
BEGIN:VEVENT
DTSTART;TZID=America/Chicago:20260409T110000
DTEND;TZID=America/Chicago:20260409T120000
DTSTAMP:20260102T063306
CREATED:20230412T164647Z
LAST-MODIFIED:20230412T164823Z
UID:10001470-1775732400-1775736000@texaspva.org
SUMMARY:Bowling SA
DESCRIPTION:Related
URL:https://texaspva.org/event/sa-bowling/2026-04-09/
LOCATION:The Lanes at Oak HIlls\, 7330 Callahan Rd\, San Antonio\, TX\, 78229\, United States
END:VEVENT
BEGIN:VEVENT
DTSTART;TZID=America/Chicago:20260416T110000
DTEND;TZID=America/Chicago:20260416T120000
DTSTAMP:20260102T063306
CREATED:20230412T164647Z
LAST-MODIFIED:20230412T164823Z
UID:10001471-1776337200-1776340800@texaspva.org
SUMMARY:Bowling SA
DESCRIPTION:Related
URL:https://texaspva.org/event/sa-bowling/2026-04-16/
LOCATION:The Lanes at Oak HIlls\, 7330 Callahan Rd\, San Antonio\, TX\, 78229\, United States
END:VEVENT
BEGIN:VEVENT
DTSTART;TZID=America/Chicago:20260423T110000
DTEND;TZID=America/Chicago:20260423T120000
DTSTAMP:20260102T063306
CREATED:20230412T164647Z
LAST-MODIFIED:20230412T164823Z
UID:10001472-1776942000-1776945600@texaspva.org
SUMMARY:Bowling SA
DESCRIPTION:Related
URL:https://texaspva.org/event/sa-bowling/2026-04-23/
LOCATION:The Lanes at Oak HIlls\, 7330 Callahan Rd\, San Antonio\, TX\, 78229\, United States
END:VEVENT
BEGIN:VEVENT
DTSTART;TZID=America/Chicago:20260430T110000
DTEND;TZID=America/Chicago:20260430T120000
DTSTAMP:20260102T063306
CREATED:20230412T164647Z
LAST-MODIFIED:20230412T164823Z
UID:10001473-1777546800-1777550400@texaspva.org
SUMMARY:Bowling SA
DESCRIPTION:Related
URL:https://texaspva.org/event/sa-bowling/2026-04-30/
LOCATION:The Lanes at Oak HIlls\, 7330 Callahan Rd\, San Antonio\, TX\, 78229\, United States
END:VEVENT
BEGIN:VEVENT
DTSTART;TZID=America/Chicago:20260507T110000
DTEND;TZID=America/Chicago:20260507T120000
DTSTAMP:20260102T063306
CREATED:20230412T164647Z
LAST-MODIFIED:20230412T164823Z
UID:10001474-1778151600-1778155200@texaspva.org
SUMMARY:Bowling SA
DESCRIPTION:Related
URL:https://texaspva.org/event/sa-bowling/2026-05-07/
LOCATION:The Lanes at Oak HIlls\, 7330 Callahan Rd\, San Antonio\, TX\, 78229\, United States
END:VEVENT
BEGIN:VEVENT
DTSTART;TZID=America/Chicago:20260514T110000
DTEND;TZID=America/Chicago:20260514T120000
DTSTAMP:20260102T063306
CREATED:20230412T164647Z
LAST-MODIFIED:20230412T164823Z
UID:10001475-1778756400-1778760000@texaspva.org
SUMMARY:Bowling SA
DESCRIPTION:Related
URL:https://texaspva.org/event/sa-bowling/2026-05-14/
LOCATION:The Lanes at Oak HIlls\, 7330 Callahan Rd\, San Antonio\, TX\, 78229\, United States
END:VEVENT
BEGIN:VEVENT
DTSTART;TZID=America/Chicago:20260521T110000
DTEND;TZID=America/Chicago:20260521T120000
DTSTAMP:20260102T063306
CREATED:20230412T164647Z
LAST-MODIFIED:20230412T164823Z
UID:10001476-1779361200-1779364800@texaspva.org
SUMMARY:Bowling SA
DESCRIPTION:Related
URL:https://texaspva.org/event/sa-bowling/2026-05-21/
LOCATION:The Lanes at Oak HIlls\, 7330 Callahan Rd\, San Antonio\, TX\, 78229\, United States
END:VEVENT
BEGIN:VEVENT
DTSTART;TZID=America/Chicago:20260528T110000
DTEND;TZID=America/Chicago:20260528T120000
DTSTAMP:20260102T063306
CREATED:20230412T164647Z
LAST-MODIFIED:20230412T164823Z
UID:10001477-1779966000-1779969600@texaspva.org
SUMMARY:Bowling SA
DESCRIPTION:Related
URL:https://texaspva.org/event/sa-bowling/2026-05-28/
LOCATION:The Lanes at Oak HIlls\, 7330 Callahan Rd\, San Antonio\, TX\, 78229\, United States
END:VEVENT
BEGIN:VEVENT
DTSTART;TZID=America/Chicago:20260604T110000
DTEND;TZID=America/Chicago:20260604T120000
DTSTAMP:20260102T063306
CREATED:20230412T164647Z
LAST-MODIFIED:20230412T164823Z
UID:10001478-1780570800-1780574400@texaspva.org
SUMMARY:Bowling SA
DESCRIPTION:Related
URL:https://texaspva.org/event/sa-bowling/2026-06-04/
LOCATION:The Lanes at Oak HIlls\, 7330 Callahan Rd\, San Antonio\, TX\, 78229\, United States
END:VEVENT
BEGIN:VEVENT
DTSTART;TZID=America/Chicago:20260611T110000
DTEND;TZID=America/Chicago:20260611T120000
DTSTAMP:20260102T063306
CREATED:20230412T164647Z
LAST-MODIFIED:20230412T164823Z
UID:10001479-1781175600-1781179200@texaspva.org
SUMMARY:Bowling SA
DESCRIPTION:Related
URL:https://texaspva.org/event/sa-bowling/2026-06-11/
LOCATION:The Lanes at Oak HIlls\, 7330 Callahan Rd\, San Antonio\, TX\, 78229\, United States
END:VEVENT
BEGIN:VEVENT
DTSTART;TZID=America/Chicago:20260618T110000
DTEND;TZID=America/Chicago:20260618T120000
DTSTAMP:20260102T063306
CREATED:20230412T164647Z
LAST-MODIFIED:20230412T164823Z
UID:10001480-1781780400-1781784000@texaspva.org
SUMMARY:Bowling SA
DESCRIPTION:Related
URL:https://texaspva.org/event/sa-bowling/2026-06-18/
LOCATION:The Lanes at Oak HIlls\, 7330 Callahan Rd\, San Antonio\, TX\, 78229\, United States
END:VEVENT
BEGIN:VEVENT
DTSTART;TZID=America/Chicago:20260625T110000
DTEND;TZID=America/Chicago:20260625T120000
DTSTAMP:20260102T063306
CREATED:20230412T164647Z
LAST-MODIFIED:20230412T164823Z
UID:10001481-1782385200-1782388800@texaspva.org
SUMMARY:Bowling SA
DESCRIPTION:Related
URL:https://texaspva.org/event/sa-bowling/2026-06-25/
LOCATION:The Lanes at Oak HIlls\, 7330 Callahan Rd\, San Antonio\, TX\, 78229\, United States
END:VEVENT
BEGIN:VEVENT
DTSTART;TZID=America/Chicago:20260702T110000
DTEND;TZID=America/Chicago:20260702T120000
DTSTAMP:20260102T063306
CREATED:20230412T164647Z
LAST-MODIFIED:20230412T164823Z
UID:10001482-1782990000-1782993600@texaspva.org
SUMMARY:Bowling SA
DESCRIPTION:Related
URL:https://texaspva.org/event/sa-bowling/2026-07-02/
LOCATION:The Lanes at Oak HIlls\, 7330 Callahan Rd\, San Antonio\, TX\, 78229\, United States
END:VEVENT
BEGIN:VEVENT
DTSTART;TZID=America/Chicago:20260709T110000
DTEND;TZID=America/Chicago:20260709T120000
DTSTAMP:20260102T063306
CREATED:20230412T164647Z
LAST-MODIFIED:20230412T164823Z
UID:10001483-1783594800-1783598400@texaspva.org
SUMMARY:Bowling SA
DESCRIPTION:Related
URL:https://texaspva.org/event/sa-bowling/2026-07-09/
LOCATION:The Lanes at Oak HIlls\, 7330 Callahan Rd\, San Antonio\, TX\, 78229\, United States
END:VEVENT
BEGIN:VEVENT
DTSTART;TZID=America/Chicago:20260716T110000
DTEND;TZID=America/Chicago:20260716T120000
DTSTAMP:20260102T063306
CREATED:20230412T164647Z
LAST-MODIFIED:20230412T164823Z
UID:10001484-1784199600-1784203200@texaspva.org
SUMMARY:Bowling SA
DESCRIPTION:Related
URL:https://texaspva.org/event/sa-bowling/2026-07-16/
LOCATION:The Lanes at Oak HIlls\, 7330 Callahan Rd\, San Antonio\, TX\, 78229\, United States
END:VEVENT
BEGIN:VEVENT
DTSTART;TZID=America/Chicago:20260723T110000
DTEND;TZID=America/Chicago:20260723T120000
DTSTAMP:20260102T063306
CREATED:20230412T164647Z
LAST-MODIFIED:20230412T164823Z
UID:10001485-1784804400-1784808000@texaspva.org
SUMMARY:Bowling SA
DESCRIPTION:Related
URL:https://texaspva.org/event/sa-bowling/2026-07-23/
LOCATION:The Lanes at Oak HIlls\, 7330 Callahan Rd\, San Antonio\, TX\, 78229\, United States
END:VEVENT
BEGIN:VEVENT
DTSTART;TZID=America/Chicago:20260730T110000
DTEND;TZID=America/Chicago:20260730T120000
DTSTAMP:20260102T063306
CREATED:20230412T164647Z
LAST-MODIFIED:20230412T164823Z
UID:10001486-1785409200-1785412800@texaspva.org
SUMMARY:Bowling SA
DESCRIPTION:Related
URL:https://texaspva.org/event/sa-bowling/2026-07-30/
LOCATION:The Lanes at Oak HIlls\, 7330 Callahan Rd\, San Antonio\, TX\, 78229\, United States
END:VEVENT
END:VCALENDAR